BEGIN:VCALENDAR
VERSION:2.0
PRODID:-//Delta Queen Lodge, Restaurant &amp; Bar - ECPv6.7.0//NONSGML v1.0//EN
CALSCALE:GREGORIAN
METHOD:PUBLISH
X-WR-CALNAME:Delta Queen Lodge, Restaurant &amp; Bar
X-ORIGINAL-URL:https://deltaqueenisleton.com
X-WR-CALDESC:Events for Delta Queen Lodge, Restaurant &amp; Bar
REFRESH-INTERVAL;VALUE=DURATION:PT1H
X-Robots-Tag:noindex
X-PUBLISHED-TTL:PT1H
BEGIN:VTIMEZONE
TZID:UTC
BEGIN:STANDARD
TZOFFSETFROM:+0000
TZOFFSETTO:+0000
TZNAME:UTC
DTSTART:20260101T000000
END:STANDARD
END:VTIMEZONE
BEGIN:VEVENT
DTSTART;VALUE=DATE:20260425
DTEND;VALUE=DATE:20260428
DTSTAMP:20260426T013407
CREATED:20250516T091518Z
LAST-MODIFIED:20260316T234622Z
UID:878-1777075200-1777334399@deltaqueenisleton.com
SUMMARY:Private Event - Corporate Training 2 Day Offsite
DESCRIPTION:Private Corporate Training Event.  Classes are conducted in the back rooms (capacity ~ 50 folks)\, lodging is upstairs\, menu is catered to the business.  We take pride in our BBQs (Ribs\, Brisket\, Pork) and our crawdad boils.   The day after breakfast burritos from the BBQ are a major hit.  Isleton is a great place to hike\, bike\, fish and just enjoy the Delta Life . \ncc         \nExcellent learning environment for groups of up to 30\, \n    \n 
URL:https://deltaqueenisleton.com/event/private-event-corporate-training-2-day-offsite/
LOCATION:CA
CATEGORIES:Private Event
ATTACH;FMTTYPE=image/jpeg:https://deltaqueenisleton.com/wp-content/uploads/2025/05/River-Frontage-3-Free-Kayaks-scaled.jpg
END:VEVENT
BEGIN:VEVENT
DTSTART;TZID=UTC:20260426T190000
DTEND;TZID=UTC:20260426T230000
DTSTAMP:20260426T013407
CREATED:20260423T140401Z
LAST-MODIFIED:20260423T140401Z
UID:1260-1777230000-1777244400@deltaqueenisleton.com
SUMMARY:Saturday Night Karaoke 7:00 - 11:00
DESCRIPTION:Saturday Night Karaoke at the Delta Queen happens every Saturday night – rain or shine.  If the power goes off\, we can use a cell phone for music.  Our establishment is very family friendly\, and children are welcome up until 9:00 pm \nFirst time singers at the Delta Queen receive a free well shot\, our thank you\, regardless of sound:) \nAny singer can enjoy a Delta Queen Lodge Room at a special rate \, if you sing a song!!!  Ask JP the bartender. \nAny questions\, Call 916-777-4077 for our new AI service\, please give it chance and tell it what you need or want. \nSing Along with KJ Priscilla!!!!!!!!!!!!!! \n \nhttps://deltaqueenisleton.com/wp-content/uploads/2026/04/Trio-Tania.mp4\nhttps://deltaqueenisleton.com/wp-content/uploads/2026/04/Duo-Aubrey-w-Dawson.mp4\n \n 
URL:https://deltaqueenisleton.com/event/saturday-night-karaoke-700-1100-4/
LOCATION:Delta Queen Lodge\, 34 Main St\, Isleton\, CA\, 95641\, United States
CATEGORIES:DQ Activities
ATTACH;FMTTYPE=image/jpeg:https://deltaqueenisleton.com/wp-content/uploads/2025/11/KJ-Priscilla.jpg
END:VEVENT
END:VCALENDAR