BEGIN:VCALENDAR
VERSION:2.0
PRODID:-//Delta Queen Lodge, Restaurant &amp; Bar - ECPv6.7.0//NONSGML v1.0//EN
CALSCALE:GREGORIAN
METHOD:PUBLISH
X-WR-CALNAME:Delta Queen Lodge, Restaurant &amp; Bar
X-ORIGINAL-URL:https://deltaqueenisleton.com
X-WR-CALDESC:Events for Delta Queen Lodge, Restaurant &amp; Bar
REFRESH-INTERVAL;VALUE=DURATION:PT1H
X-Robots-Tag:noindex
X-PUBLISHED-TTL:PT1H
BEGIN:VTIMEZONE
TZID:UTC
BEGIN:STANDARD
TZOFFSETFROM:+0000
TZOFFSETTO:+0000
TZNAME:UTC
DTSTART:20260101T000000
END:STANDARD
END:VTIMEZONE
BEGIN:VEVENT
DTSTART;TZID=UTC:20260214T180000
DTEND;TZID=UTC:20260214T210000
DTSTAMP:20260419T235434
CREATED:20250113T185044Z
LAST-MODIFIED:20250516T082523Z
UID:758-1771092000-1771102800@deltaqueenisleton.com
SUMMARY:Valentine's R&B Sip n Paint
DESCRIPTION:Making your Valentine’s weekend plans? Come on out to get your plans jumping into effect! We will be hosting an exciting R&B Sip n Paint event at the Delta Queen Lodge. Your ticket includes an 8×8 canvas\, paint\, two drinks and light snacks that will be available for consumption. Whether you’re planning an evening of romance or a fun night out with friends\, come out to enjoy this great environment of fun times and memories.
URL:https://deltaqueenisleton.com/event/valentines-rb-sip-n-paint/
LOCATION:Delta Queen Lodge\, 34 Main St\, Isleton\, CA\, 95641\, United States
CATEGORIES:Art & Entertainment,DQ Activities
ATTACH;FMTTYPE=image/png:https://deltaqueenisleton.com/wp-content/uploads/2025/01/Copy-of-valentine-sip-and-paint.png
ORGANIZER;CN="Delta Queen Lodge":MAILTO:info@deltaqueenisleton.com
END:VEVENT
END:VCALENDAR