BEGIN:VCALENDAR
VERSION:2.0
PRODID:-//Delta Queen Lodge, Restaurant &amp; Bar - ECPv6.7.0//NONSGML v1.0//EN
CALSCALE:GREGORIAN
METHOD:PUBLISH
X-ORIGINAL-URL:https://deltaqueenisleton.com
X-WR-CALDESC:Events for Delta Queen Lodge, Restaurant &amp; Bar
REFRESH-INTERVAL;VALUE=DURATION:PT1H
X-Robots-Tag:noindex
X-PUBLISHED-TTL:PT1H
BEGIN:VTIMEZONE
TZID:UTC
BEGIN:STANDARD
TZOFFSETFROM:+0000
TZOFFSETTO:+0000
TZNAME:UTC
DTSTART:20260101T000000
END:STANDARD
END:VTIMEZONE
BEGIN:VEVENT
DTSTART;VALUE=DATE:20260620
DTEND;VALUE=DATE:20260622
DTSTAMP:20260419T115525
CREATED:20250808T190325Z
LAST-MODIFIED:20260316T234816Z
UID:922-1781913600-1782086399@deltaqueenisleton.com
SUMMARY:Private Event - Corporate Training
DESCRIPTION:Private Corporate Training Event Lodging included upstairs\, menu is catered to the business.  We take pride in our BBQs (Ribs\, Brisket\, Pork) and our crawdad boils.   The day after breakfast burritos from the BBQ are a major hit.  Isleton is a great place to hike\, bike\, fish and just enjoy the Delta Life . \ncc \nExcellent learning environment for groups of up to 30\, \n       \nIsleton is within an hour of Sacramento\, Oakland and SFO International Airports. \n 
URL:https://deltaqueenisleton.com/event/private-event-2/
CATEGORIES:Private Event
ATTACH;FMTTYPE=image/jpeg:https://deltaqueenisleton.com/wp-content/uploads/2024/10/20231001_104616-scaled.jpg
END:VEVENT
END:VCALENDAR