BEGIN:VCALENDAR
VERSION:2.0
PRODID:-//Delta Queen Lodge, Restaurant &amp; Bar - ECPv6.7.0//NONSGML v1.0//EN
CALSCALE:GREGORIAN
METHOD:PUBLISH
X-WR-CALNAME:Delta Queen Lodge, Restaurant &amp; Bar
X-ORIGINAL-URL:https://deltaqueenisleton.com
X-WR-CALDESC:Events for Delta Queen Lodge, Restaurant &amp; Bar
REFRESH-INTERVAL;VALUE=DURATION:PT1H
X-Robots-Tag:noindex
X-PUBLISHED-TTL:PT1H
BEGIN:VTIMEZONE
TZID:UTC
BEGIN:STANDARD
TZOFFSETFROM:+0000
TZOFFSETTO:+0000
TZNAME:UTC
DTSTART:20260101T000000
END:STANDARD
END:VTIMEZONE
BEGIN:VEVENT
DTSTART;TZID=UTC:20260321T190000
DTEND;TZID=UTC:20260321T230000
DTSTAMP:20260419T120555
CREATED:20260316T235517Z
LAST-MODIFIED:20260316T235517Z
UID:1236-1774119600-1774134000@deltaqueenisleton.com
SUMMARY:Saturday Night Karaoke 7:00 - 11:00
DESCRIPTION:Saturday Night Karaoke at the Delta Queen happens every Saturday night – rain or shine.  If the power goes off\, we can use a cell phone for music. \nFirst time singers at the Delta Queen receive a free well shot\, our thank you\, regardless of sound:) \nAny singer can enjoy a Delta Queen Lodge Room at a special rate \, if you sing a song!!!  Ask JP the bartender. \nAny questions\, Call 916-777-4077 for a live voice.  (confirm schedule\, room availability\, ??) \nSing Along with KJ Priscialla!!!!!!!!!!!!!! \n \nhttps://deltaqueenisleton.com/wp-content/uploads/2025/11/Karaoke-Saturdays-2.mp4\n 
URL:https://deltaqueenisleton.com/event/saturday-night-karaoke-700-1100-3/
LOCATION:Delta Queen Lodge\, 34 Main St\, Isleton\, CA\, 95641\, United States
CATEGORIES:DQ Activities
ATTACH;FMTTYPE=image/jpeg:https://deltaqueenisleton.com/wp-content/uploads/2025/11/KJ-Priscilla.jpg
END:VEVENT
BEGIN:VEVENT
DTSTART;TZID=UTC:20260321T190000
DTEND;TZID=UTC:20260321T230000
DTSTAMP:20260419T120555
CREATED:20260327T233622Z
LAST-MODIFIED:20260324T234326Z
UID:1247-1774119600-1774134000@deltaqueenisleton.com
SUMMARY:Saturday Night Karaoke 7:00 - 11:00    Shots for Afroman Songs this weekend
DESCRIPTION:Saturday Night Karaoke at the Delta Queen happens every Saturday night – rain or shine.  If the power goes off\, we use a generator and to play the  music. \nFirst time singers at the Delta Queen receive a free well shot\, our thank you\, regardless of how you \n \nsound:) \nAny singer can enjoy a Delta Queen Lodge Room at a special rate \, if you sing a song!!!  Ask JP the bartender for the cod \nAny questions\, Call 916-777-4077 for our new AI staff  (ask for the bartender\, confirm schedule\, room availability\, ??) \nSing Along with KJ Priscilla!!!!!!!!!!!!!! \n  \nhttps://deltaqueenisleton.com/wp-content/uploads/2025/11/Karaoke-Saturdays-2.mp4\n 
URL:https://deltaqueenisleton.com/event/saturday-night-karaoke-700-1100-shots-for-afroman-songs-this-weekend/
LOCATION:Delta Queen Lodge\, 34 Main St\, Isleton\, CA\, 95641\, United States
CATEGORIES:DQ Activities
ATTACH;FMTTYPE=image/jpeg:https://deltaqueenisleton.com/wp-content/uploads/2025/11/KJ-Priscilla.jpg
END:VEVENT
BEGIN:VEVENT
DTSTART;TZID=UTC:20260322T190000
DTEND;TZID=UTC:20260322T230000
DTSTAMP:20260419T120555
CREATED:20260316T234137Z
LAST-MODIFIED:20260316T234137Z
UID:1237-1774206000-1774220400@deltaqueenisleton.com
SUMMARY:Saturday Night Karaoke 7:00 - 11:00
DESCRIPTION:Saturday Night Karaoke at the Delta Queen happens every Saturday night – rain or shine.  If the power goes off\, we can use a cell phone for music. \nFirst time singers at the Delta Queen receive a free well shot\, our thank you\, regardless of sound:) \nAny singer can enjoy a Delta Queen Lodge Room at a special rate \, if you sing a song!!!  Ask JP the bartender. \nAny questions\, Call 916-777-4077 for a live voice.  (confirm schedule\, room availability\, ??) \nSing Along with KJ Priscialla!!!!!!!!!!!!!! \n \nhttps://deltaqueenisleton.com/wp-content/uploads/2025/11/Karaoke-Saturdays-2.mp4\n 
URL:https://deltaqueenisleton.com/event/saturday-night-karaoke-700-1100/
LOCATION:Delta Queen Lodge\, 34 Main St\, Isleton\, CA\, 95641\, United States
CATEGORIES:DQ Activities
ATTACH;FMTTYPE=image/jpeg:https://deltaqueenisleton.com/wp-content/uploads/2025/11/KJ-Priscilla.jpg
END:VEVENT
END:VCALENDAR